BEGIN:VCALENDAR
VERSION:2.0
PRODID:-//Cocchi-Aosta |  Todi - ECPv5.14.1//NONSGML v1.0//EN
CALSCALE:GREGORIAN
METHOD:PUBLISH
X-WR-CALNAME:Cocchi-Aosta |  Todi
X-ORIGINAL-URL:https://old.cocchiaosta.edu.it
X-WR-CALDESC:Events for Cocchi-Aosta |  Todi
REFRESH-INTERVAL;VALUE=DURATION:PT1H
X-Robots-Tag:noindex
X-PUBLISHED-TTL:PT1H
BEGIN:VTIMEZONE
TZID:Europe/Paris
BEGIN:DAYLIGHT
TZOFFSETFROM:+0100
TZOFFSETTO:+0200
TZNAME:CEST
DTSTART:20220327T010000
END:DAYLIGHT
BEGIN:STANDARD
TZOFFSETFROM:+0200
TZOFFSETTO:+0100
TZNAME:CET
DTSTART:20221030T010000
END:STANDARD
BEGIN:DAYLIGHT
TZOFFSETFROM:+0100
TZOFFSETTO:+0200
TZNAME:CEST
DTSTART:20230326T010000
END:DAYLIGHT
BEGIN:STANDARD
TZOFFSETFROM:+0200
TZOFFSETTO:+0100
TZNAME:CET
DTSTART:20231029T010000
END:STANDARD
END:VTIMEZONE
BEGIN:VEVENT
DTSTART;TZID=Europe/Paris:20220919T081000
DTEND;TZID=Europe/Paris:20220922T131000
DTSTAMP:20260423T000743
CREATED:20220922T095949Z
LAST-MODIFIED:20220922T095949Z
UID:823-1663575000-1663852200@old.cocchiaosta.edu.it
SUMMARY:Settimana della didattica laboratoriale
DESCRIPTION:Da lunedì 19 settembre e per tutta la settimana le classi prime del nostro Istituto saranno impegnate nella settimana della didattica laboratoriale. Molti laboratori nei quali i ragazzi potranno sperimentare interessanti e formative attività\, che poi potranno proseguire aderendo al corso STEEAM \n 
URL:https://old.cocchiaosta.edu.it/event/settimana-della-didattica-laboratoriale/
CATEGORIES:Laboratori
ATTACH;FMTTYPE=application/pdf:https://old.cocchiaosta.edu.it/wp-content/uploads/2022/09/Locandina-settimana-lab-2022.pdf
END:VEVENT
BEGIN:VEVENT
DTSTART;TZID=Europe/Paris:20221223T080000
DTEND;TZID=Europe/Paris:20230108T210000
DTSTAMP:20260423T000743
CREATED:20221222T142558Z
LAST-MODIFIED:20221222T142841Z
UID:1236-1671782400-1673211600@old.cocchiaosta.edu.it
SUMMARY:Vacanze di Natale
DESCRIPTION:
URL:https://old.cocchiaosta.edu.it/event/vacanze-di-natale/
CATEGORIES:festività
ATTACH;FMTTYPE=image/png:https://old.cocchiaosta.edu.it/wp-content/uploads/2022/12/Decorazioni-con-Fiocchi-di-Neve-Lista-dei-Desideri-di-Natale-Post-di-Facebook-4.png
END:VEVENT
END:VCALENDAR